BEGIN:VCALENDAR
VERSION:2.0
PRODID:-//wp-events-plugin.com//7.2.3.1//EN
TZID:Europe/Ljubljana
X-WR-TIMEZONE:Europe/Ljubljana
BEGIN:VEVENT
UID:701@cda-koper.si
DTSTART;TZID=Europe/Ljubljana:20260309T160000
DTEND;TZID=Europe/Ljubljana:20260309T183000
DTSTAMP:20260224T112540Z
URL:https://cda-koper.si/dogodki/bralni-klub-6/
SUMMARY:BRALNI KLUB
DESCRIPTION:V ponedeljek\, 09.03.2026 ob 16:00 uri\, vas vabimo na BRALNI K
 LUB »Preberem dvakrat«. Tokrat bo bralni klub obravnaval delo Paola Gior
 dana - Samotnost praštevil.\nKnjigo si lahko izposodite v CDA od srede\, 
 11.02.2026 dalje. Ob prevzemu knjige boste prejeli tudi program dela tokra
 tnega bralnega popoldneva.\nBralni klub vodi g. Edi Umer.\n\n&nbsp\;
ATTACH;FMTTYPE=image/jpeg:https://cda-koper.si/wp-content/uploads/2026/02/
 Bralni-klub-9.3.2026s.png
CATEGORIES:CDA
LOCATION:CENTER DNEVNIH AKTIVNOSTI ZA STAREJŠE OBČANE KOPER\, Cesta Zore 
 Perello Godina 3\, 6000 Koper\, Koper\, Slovenija\, 6000\, Upravna enota K
 oper\, Slovenia
GEO:45.542631;13.725624
X-APPLE-STRUCTURED-LOCATION;VALUE=URI;X-ADDRESS=Cesta Zore Perello Godina 3
 \, 6000 Koper\, Koper\, Slovenija\, 6000\, Upravna enota Koper\, Slovenia;
 X-APPLE-RADIUS=100;X-TITLE=CENTER DNEVNIH AKTIVNOSTI ZA STAREJŠE OBČANE 
 KOPER:geo:45.542631,13.725624
END:VEVENT
BEGIN:VTIMEZONE
TZID:Europe/Ljubljana
X-LIC-LOCATION:Europe/Ljubljana
BEGIN:STANDARD
DTSTART:20251026T020000
TZOFFSETFROM:+0200
TZOFFSETTO:+0100
TZNAME:CET
END:STANDARD
END:VTIMEZONE
END:VCALENDAR