BEGIN:VCALENDAR
VERSION:2.0
PRODID:-//wp-events-plugin.com//7.2.3.1//EN
TZID:Europe/Ljubljana
X-WR-TIMEZONE:Europe/Ljubljana
BEGIN:VEVENT
UID:165@cda-koper.si
DTSTART;TZID=Europe/Ljubljana:20221111T100000
DTEND;TZID=Europe/Ljubljana:20221111T100000
DTSTAMP:20221028T082139Z
URL:https://cda-koper.si/dogodki/delavnica-gong-tibetanska-skleda-in-cinel
 e/
SUMMARY:DELAVNICA-GONG\, TIBETANSKA SKLEDA IN ČINELE
DESCRIPTION:V petek\, 11.11.2022 ob 10:00 uri vas vabimo na delavnico: GONG
 \, TIBETANSKA SKLEDA IN ČINELE. Zgodovina nas uči\, da so starodaven ins
 trument uporabili že po koncu bronaste dobe. Gonge se izdeluje ročno. Zn
 ani so planetarni iz našega osončja. To so: Venera\, Mars\, Jupiter\, Sa
 turn\, Luna\, Zemlja\, Sonce\, Merkur\, Uran\, Neptun\, Pluton.\nPri spro
 ščanju s klasičnimi inštrumenti nastopi nova izkušnja na vibracijski 
 ravni. Zvok gonga v vsaki celici prebudi njen izvirni zvok\, ki je nosilec
  informacij njenega optimalnega delovanja. Njene vibracije vplivajo na cel
 ice in zaradi tega globoko sproščajo. Odpravlja zastoje iz teles. Gong j
 e bil orodje tudi pri Šamanih – zdravilcih. Pridružite se našemu sre
 čanju\, kjer vas bo gong in moč njegovega zvoka objel v zvočno polje.\n
 S seboj prinesite ležalno podlogo in brisačo. Delavnico bo vodila ga. Br
 eda Šuštar.\n\n&nbsp\;
ATTACH;FMTTYPE=image/jpeg:https://cda-koper.si/wp-content/uploads/2022/10/
 tibetanska.jpg
CATEGORIES:CDA
LOCATION:CENTER DNEVNIH AKTIVNOSTI ZA STAREJŠE OBČANE KOPER\, Cesta Zore 
 Perello Godina 3\, 6000 Koper\, Koper\, Slovenija\, 6000\, Upravna enota K
 oper\, Slovenia
GEO:45.542631;13.725624
X-APPLE-STRUCTURED-LOCATION;VALUE=URI;X-ADDRESS=Cesta Zore Perello Godina 3
 \, 6000 Koper\, Koper\, Slovenija\, 6000\, Upravna enota Koper\, Slovenia;
 X-APPLE-RADIUS=100;X-TITLE=CENTER DNEVNIH AKTIVNOSTI ZA STAREJŠE OBČANE 
 KOPER:geo:45.542631,13.725624
END:VEVENT
BEGIN:VTIMEZONE
TZID:Europe/Ljubljana
X-LIC-LOCATION:Europe/Ljubljana
BEGIN:STANDARD
DTSTART:20221030T020000
TZOFFSETFROM:+0200
TZOFFSETTO:+0100
TZNAME:CET
END:STANDARD
END:VTIMEZONE
END:VCALENDAR