BEGIN:VCALENDAR
VERSION:2.0
PRODID:-//wp-events-plugin.com//7.2.3.1//EN
TZID:Europe/Ljubljana
X-WR-TIMEZONE:Europe/Ljubljana
BEGIN:VEVENT
UID:699@cda-koper.si
DTSTART;TZID=Europe/Ljubljana:20260304T100000
DTEND;TZID=Europe/Ljubljana:20260304T110000
DTSTAMP:20260224T111827Z
URL:https://cda-koper.si/dogodki/delavnica-piling-z-vrtnico-in-grenivkino-
 lupino-za-sijoco-polt/
SUMMARY:DELAVNICA-PILING Z VRTNICO IN GRENIVKINO LUPINO ZA SIJOČO POLT
DESCRIPTION:V sredo\, 04.03.2026 ob 10:00 uri\, vas vabimo\, da se udeleži
 te delavnice: PILING Z VRTNICO IN GRENIVKINO LUPINO ZA SIJOČO POLT.\nDela
 vnico bo vodila ga. Astrid Beržan Felda.
ATTACH;FMTTYPE=image/jpeg:https://cda-koper.si/wp-content/uploads/2026/02/
 a.jpg
CATEGORIES:CDA
LOCATION:CENTER DNEVNIH AKTIVNOSTI ZA STAREJŠE OBČANE KOPER\, Cesta Zore 
 Perello Godina 3\, 6000 Koper\, Koper\, Slovenija\, 6000\, Upravna enota K
 oper\, Slovenia
GEO:45.542631;13.725624
X-APPLE-STRUCTURED-LOCATION;VALUE=URI;X-ADDRESS=Cesta Zore Perello Godina 3
 \, 6000 Koper\, Koper\, Slovenija\, 6000\, Upravna enota Koper\, Slovenia;
 X-APPLE-RADIUS=100;X-TITLE=CENTER DNEVNIH AKTIVNOSTI ZA STAREJŠE OBČANE 
 KOPER:geo:45.542631,13.725624
END:VEVENT
BEGIN:VTIMEZONE
TZID:Europe/Ljubljana
X-LIC-LOCATION:Europe/Ljubljana
BEGIN:STANDARD
DTSTART:20251026T020000
TZOFFSETFROM:+0200
TZOFFSETTO:+0100
TZNAME:CET
END:STANDARD
END:VTIMEZONE
END:VCALENDAR