BEGIN:VCALENDAR
VERSION:2.0
PRODID:-//wp-events-plugin.com//7.2.3.1//EN
TZID:Europe/Ljubljana
X-WR-TIMEZONE:Europe/Ljubljana
BEGIN:VEVENT
UID:760@cda-koper.si
DTSTART;TZID=Europe/Ljubljana:20260515T100000
DTEND;TZID=Europe/Ljubljana:20260515T110000
DTSTAMP:20260422T141110Z
URL:https://cda-koper.si/dogodki/delavnica-priprave-naravnih-izdelkov-za-z
 ascito-pred-komarji-in-klopi/
SUMMARY:DELAVNICA-PRIPRAVE NARAVNIH IZDELKOV ZA ZAŠČITO PRED KOMARJI IN K
 LOPI
DESCRIPTION:V petek\, 15.05.2026 ob 10:00 uri\, vas vabimo na delavnico PRI
 PRAVE NARAVNIH IZDELKOV ZA ZAŠČITO PRED KOMARJI IN KLOPI.\nNa delavnici 
 boste pridobili praktična znanja o izdelavi učinkovitih pripravkov iz na
 ravnih sestavin ter spoznali načine za varno in trajnostno zaščito pred
  nadležnimi insekti.\nDelavnico bo vodila ga. Darja Rojec.
ATTACH;FMTTYPE=image/jpeg:https://cda-koper.si/wp-content/uploads/2026/04/
 milena-1.jpg
CATEGORIES:CDA
LOCATION:CENTER DNEVNIH AKTIVNOSTI ZA STAREJŠE OBČANE KOPER\, Cesta Zore 
 Perello Godina 3\, 6000 Koper\, Koper\, Slovenija\, 6000\, Upravna enota K
 oper\, Slovenia
GEO:45.542631;13.725624
X-APPLE-STRUCTURED-LOCATION;VALUE=URI;X-ADDRESS=Cesta Zore Perello Godina 3
 \, 6000 Koper\, Koper\, Slovenija\, 6000\, Upravna enota Koper\, Slovenia;
 X-APPLE-RADIUS=100;X-TITLE=CENTER DNEVNIH AKTIVNOSTI ZA STAREJŠE OBČANE 
 KOPER:geo:45.542631,13.725624
END:VEVENT
BEGIN:VTIMEZONE
TZID:Europe/Ljubljana
X-LIC-LOCATION:Europe/Ljubljana
BEGIN:DAYLIGHT
DTSTART:20260329T030000
TZOFFSETFROM:+0100
TZOFFSETTO:+0200
TZNAME:CEST
END:DAYLIGHT
END:VTIMEZONE
END:VCALENDAR