BEGIN:VCALENDAR
VERSION:2.0
PRODID:-//wp-events-plugin.com//7.2.3.1//EN
TZID:Europe/Ljubljana
X-WR-TIMEZONE:Europe/Ljubljana
BEGIN:VEVENT
UID:556@cda-koper.si
DTSTART;TZID=Europe/Ljubljana:20250409T100000
DTEND;TZID=Europe/Ljubljana:20250409T120000
DTSTAMP:20250328T174734Z
URL:https://cda-koper.si/dogodki/delavnica-priprave-skutine-torte/
SUMMARY:DELAVNICA PRIPRAVE SKUTINE TORTE
DESCRIPTION:V sredo\, 09.04.2025 ob 10:00 uri\, vas vabimo\, da se udeleži
 te delavnice priprave SKUTINA TORTA. Delavnico bo vodila ga. Milena Ugrin 
 Čalija.
ATTACH;FMTTYPE=image/jpeg:https://cda-koper.si/wp-content/uploads/2025/03/
 prenos.jpg
CATEGORIES:CDA
LOCATION:CDA KOPER\, Cesta Zore Perello Godina 3\, 6000 Koper\, Koper\, 600
 0\, Upravna enota Koper\, Slovenia
GEO:45.543465;13.727227
X-APPLE-STRUCTURED-LOCATION;VALUE=URI;X-ADDRESS=Cesta Zore Perello Godina 3
 \, 6000 Koper\, Koper\, 6000\, Upravna enota Koper\, Slovenia;X-APPLE-RADI
 US=100;X-TITLE=CDA KOPER:geo:45.543465,13.727227
END:VEVENT
BEGIN:VTIMEZONE
TZID:Europe/Ljubljana
X-LIC-LOCATION:Europe/Ljubljana
BEGIN:DAYLIGHT
DTSTART:20250330T030000
TZOFFSETFROM:+0100
TZOFFSETTO:+0200
TZNAME:CEST
END:DAYLIGHT
END:VTIMEZONE
END:VCALENDAR