BEGIN:VCALENDAR
VERSION:2.0
PRODID:-//wp-events-plugin.com//7.2.3.1//EN
TZID:Europe/Ljubljana
X-WR-TIMEZONE:Europe/Ljubljana
BEGIN:VEVENT
UID:190@cda-koper.si
DTSTART;TZID=Europe/Ljubljana:20230113T100000
DTEND;TZID=Europe/Ljubljana:20230113T100000
DTSTAMP:20221221T102847Z
URL:https://cda-koper.si/dogodki/delavnica_-samozdravljenje-med-stirimi-st
 enami/
SUMMARY:DELAVNICA_ SAMOZDRAVLJENJE MED ŠTIRIMI STENAMI
DESCRIPTION:V petek\, 13.01.2023 ob 10:00 uri vas vabimo na prvo srečanje 
 na temo: "SAMOZDRAVLJENJE MED ŠTIRIMI STENAMI". Kjer bo tekel pogovor o "
 BARVAH" in njihovem nevidnem valovanju\, ki vpliva na misli\,\nčustva\, i
 munski sistem itd. Delavnico bo vodila ga. Breda Šuštar.\n\n&nbsp\;\n\n&
 nbsp\;
ATTACH;FMTTYPE=image/jpeg:https://cda-koper.si/wp-content/uploads/2022/12/
 barve.jpg
CATEGORIES:CDA
LOCATION:CENTER DNEVNIH AKTIVNOSTI ZA STAREJŠE OBČANE KOPER\, Cesta Zore 
 Perello Godina 3\, 6000 Koper\, Koper\, Slovenija\, 6000\, Upravna enota K
 oper\, Slovenia
GEO:45.542631;13.725624
X-APPLE-STRUCTURED-LOCATION;VALUE=URI;X-ADDRESS=Cesta Zore Perello Godina 3
 \, 6000 Koper\, Koper\, Slovenija\, 6000\, Upravna enota Koper\, Slovenia;
 X-APPLE-RADIUS=100;X-TITLE=CENTER DNEVNIH AKTIVNOSTI ZA STAREJŠE OBČANE 
 KOPER:geo:45.542631,13.725624
END:VEVENT
BEGIN:VTIMEZONE
TZID:Europe/Ljubljana
X-LIC-LOCATION:Europe/Ljubljana
BEGIN:STANDARD
DTSTART:20221030T020000
TZOFFSETFROM:+0200
TZOFFSETTO:+0100
TZNAME:CET
END:STANDARD
END:VTIMEZONE
END:VCALENDAR