BEGIN:VCALENDAR
VERSION:2.0
PRODID:-//wp-events-plugin.com//7.2.3.1//EN
TZID:Europe/Ljubljana
X-WR-TIMEZONE:Europe/Ljubljana
BEGIN:VEVENT
UID:759@cda-koper.si
DTSTART;TZID=Europe/Ljubljana:20260514T103000
DTEND;TZID=Europe/Ljubljana:20260514T113000
DTSTAMP:20260422T140854Z
URL:https://cda-koper.si/dogodki/izmenjava-semen-sadik-sobnih-in-zunanjih-
 rastlin-ter-potaknjencev-12/
SUMMARY:IZMENJAVA SEMEN\, SADIK\, SOBNIH IN ZUNANJIH RASTLIN TER POTAKNJENC
 EV
DESCRIPTION:V četrtek\, 14.05.2026 ob 10.30 uri bomo organizirali IZMENJAV
 O SEMEN\, SADIK\, SOBNIH IN ZUNANJIH RASTLIN TER POTAKNJENCEV. Letošnja t
 retja izmenjava SEMEN\, SADIK\, SOBNIH IN ZUNANJIH RASTLIN ter POTAKNJENCE
 V bo tudi tokrat potekala po načelu »prineseš – odneseš«. Prinesete
  lahko semena\, sobne in zunanje rastline\, ki bi jih radi menjali\, potak
 njence\, kaktuse idr. Dobrodošle pa so tudi večje sobne rastline\, ki po
 trebujejo nov dom\, ker so prevelike\, prezahtevne ali pa vam niso več v
 šeč. Izmenjavo bo vodila ga. Emina Trstenjak.\n\n&nbsp\;\n\n&nbsp\;\n\n&
 nbsp\;
ATTACH;FMTTYPE=image/jpeg:https://cda-koper.si/wp-content/uploads/2026/02/
 izmenjava.jpg
CATEGORIES:CDA
LOCATION:CENTER DNEVNIH AKTIVNOSTI ZA STAREJŠE OBČANE KOPER\, Cesta Zore 
 Perello Godina 3\, 6000 Koper\, Koper\, Slovenija\, 6000\, Upravna enota K
 oper\, Slovenia
GEO:45.542631;13.725624
X-APPLE-STRUCTURED-LOCATION;VALUE=URI;X-ADDRESS=Cesta Zore Perello Godina 3
 \, 6000 Koper\, Koper\, Slovenija\, 6000\, Upravna enota Koper\, Slovenia;
 X-APPLE-RADIUS=100;X-TITLE=CENTER DNEVNIH AKTIVNOSTI ZA STAREJŠE OBČANE 
 KOPER:geo:45.542631,13.725624
END:VEVENT
BEGIN:VTIMEZONE
TZID:Europe/Ljubljana
X-LIC-LOCATION:Europe/Ljubljana
BEGIN:DAYLIGHT
DTSTART:20260329T030000
TZOFFSETFROM:+0100
TZOFFSETTO:+0200
TZNAME:CEST
END:DAYLIGHT
END:VTIMEZONE
END:VCALENDAR