BEGIN:VCALENDAR
VERSION:2.0
PRODID:-//wp-events-plugin.com//7.2.3.1//EN
TZID:Europe/Ljubljana
X-WR-TIMEZONE:Europe/Ljubljana
BEGIN:VEVENT
UID:758@cda-koper.si
DTSTART;TZID=Europe/Ljubljana:20260513T150000
DTEND;TZID=Europe/Ljubljana:20260513T160000
DTSTAMP:20260422T140519Z
URL:https://cda-koper.si/dogodki/klepet-pogovarjamo-se-vsak-v-svojem-narec
 ju-21/
SUMMARY:KLEPET-POGOVARJAMO SE VSAK V SVOJEM NAREČJU
DESCRIPTION:V sredo\, 13.05.2026 ob 15:00 uri\, vas vabimo na klepet: POGOV
 ARJAMO SE VSAK V SVOJEM NAREČJU. Pogovorno srečanje bo vodila ga. Silvan
 a Druscovich.
ATTACH;FMTTYPE=image/jpeg:https://cda-koper.si/wp-content/uploads/2026/02/
 Narecja-scaled.jpg
CATEGORIES:CDA
LOCATION:CENTER DNEVNIH AKTIVNOSTI ZA STAREJŠE OBČANE KOPER\, Cesta Zore 
 Perello Godina 3\, 6000 Koper\, Koper\, Slovenija\, 6000\, Upravna enota K
 oper\, Slovenia
GEO:45.542631;13.725624
X-APPLE-STRUCTURED-LOCATION;VALUE=URI;X-ADDRESS=Cesta Zore Perello Godina 3
 \, 6000 Koper\, Koper\, Slovenija\, 6000\, Upravna enota Koper\, Slovenia;
 X-APPLE-RADIUS=100;X-TITLE=CENTER DNEVNIH AKTIVNOSTI ZA STAREJŠE OBČANE 
 KOPER:geo:45.542631,13.725624
END:VEVENT
BEGIN:VTIMEZONE
TZID:Europe/Ljubljana
X-LIC-LOCATION:Europe/Ljubljana
BEGIN:DAYLIGHT
DTSTART:20260329T030000
TZOFFSETFROM:+0100
TZOFFSETTO:+0200
TZNAME:CEST
END:DAYLIGHT
END:VTIMEZONE
END:VCALENDAR