BEGIN:VCALENDAR
VERSION:2.0
PRODID:-//wp-events-plugin.com//7.2.3.1//EN
TZID:Europe/Ljubljana
X-WR-TIMEZONE:Europe/Ljubljana
BEGIN:VEVENT
UID:359@cda-koper.si
DTSTART;TZID=Europe/Ljubljana:20240222T160000
DTEND;TZID=Europe/Ljubljana:20240222T180000
DTSTAMP:20240201T101226Z
URL:https://cda-koper.si/dogodki/klepet-pogovarjamo-se-vsak-v-svojem-narec
 ju-6/
SUMMARY:KLEPET-POGOVARJAMO SE VSAK V SVOJEM NAREČJU
DESCRIPTION:V četrtek\, 22.02.2024 ob 16:00 uri\, vas vabimo na klepet: PO
 GOVARJAMO SE VSAK V SVOJEM NAREČJU. Pogovorno srečanje bo vodila ga. Sil
 vana Druscovich.
ATTACH;FMTTYPE=image/jpeg:https://cda-koper.si/wp-content/uploads/2023/11/
 IMG_1041-scaled.jpg
CATEGORIES:CDA
LOCATION:CENTER DNEVNIH AKTIVNOSTI ZA STAREJŠE OBČANE KOPER\, Cesta Zore 
 Perello Godina 3\, 6000 Koper\, Koper\, Slovenija\, 6000\, Upravna enota K
 oper\, Slovenia
GEO:45.542631;13.725624
X-APPLE-STRUCTURED-LOCATION;VALUE=URI;X-ADDRESS=Cesta Zore Perello Godina 3
 \, 6000 Koper\, Koper\, Slovenija\, 6000\, Upravna enota Koper\, Slovenia;
 X-APPLE-RADIUS=100;X-TITLE=CENTER DNEVNIH AKTIVNOSTI ZA STAREJŠE OBČANE 
 KOPER:geo:45.542631,13.725624
END:VEVENT
BEGIN:VTIMEZONE
TZID:Europe/Ljubljana
X-LIC-LOCATION:Europe/Ljubljana
BEGIN:STANDARD
DTSTART:20231029T020000
TZOFFSETFROM:+0200
TZOFFSETTO:+0100
TZNAME:CET
END:STANDARD
END:VTIMEZONE
END:VCALENDAR