BEGIN:VCALENDAR
VERSION:2.0
PRODID:-//wp-events-plugin.com//7.2.3.1//EN
TZID:Europe/Ljubljana
X-WR-TIMEZONE:Europe/Ljubljana
BEGIN:VEVENT
UID:234@cda-koper.si
DTSTART;TZID=Europe/Ljubljana:20230420T100000
DTEND;TZID=Europe/Ljubljana:20230420T120000
DTSTAMP:20230407T122522Z
URL:https://cda-koper.si/dogodki/medgeneracijske-literarne-delavnice-kreat
 ivnega-izrazanja-3/
SUMMARY:MEDGENERACIJSKE LITERARNE DELAVNICE KREATIVNEGA IZRAŽANJA
DESCRIPTION:Vabljeni k spoznavanju kreativnega procesa pisanja pesmi in poe
 zije mladih mentorjev interdisciplinarnega in multimedijskega zavoda TRITE
 \, kulturno-izobraževalnega zavoda\, ki bodo v obliki delavnic delili svo
 j živahno ustvarjalni pristop k pisanju in branju poezije.\nS tem vas bod
 o poskusili spodbuditi in navdahniti\, da tudi vi s sodelovanjem v zabavni
 h literarnih igrah poiščete lasten pesniški izraz.\nProces bo sestavlje
 n iz prebiranja poezije domačih in tujih\, mladih in starih avtorjev\, sp
 oznavanja raznih pesniških iger\, ki vas bo postopoma vodil od samostojne
 ga pisanja (prvih) literarnih del do uredniškega procesa z zaključno izd
 ajo skupne pesniške zbirke CDA\, v sodelovanju z NOR in PiNA.\nVabljeni\,
  da skupaj raziskujemo medgeneracijske globine pisane besede!\n\nProjekt p
 oteka v sklopu Spodbude za čezsektorske akcije: Dolgoživa družba 2023\,
  ki jo sofinancirajo Sklad za NVO in MJU.\n\n\n\n&nbsp\;
ATTACH;FMTTYPE=image/jpeg:https://cda-koper.si/wp-content/uploads/2023/03/
 literarni.jpg
CATEGORIES:CDA
LOCATION:CENTER DNEVNIH AKTIVNOSTI ZA STAREJŠE OBČANE KOPER\, Cesta Zore 
 Perello Godina 3\, 6000 Koper\, Koper\, Slovenija\, 6000\, Upravna enota K
 oper\, Slovenia
GEO:45.542631;13.725624
X-APPLE-STRUCTURED-LOCATION;VALUE=URI;X-ADDRESS=Cesta Zore Perello Godina 3
 \, 6000 Koper\, Koper\, Slovenija\, 6000\, Upravna enota Koper\, Slovenia;
 X-APPLE-RADIUS=100;X-TITLE=CENTER DNEVNIH AKTIVNOSTI ZA STAREJŠE OBČANE 
 KOPER:geo:45.542631,13.725624
END:VEVENT
BEGIN:VTIMEZONE
TZID:Europe/Ljubljana
X-LIC-LOCATION:Europe/Ljubljana
BEGIN:DAYLIGHT
DTSTART:20230326T030000
TZOFFSETFROM:+0100
TZOFFSETTO:+0200
TZNAME:CEST
END:DAYLIGHT
END:VTIMEZONE
END:VCALENDAR