BEGIN:VCALENDAR
VERSION:2.0
PRODID:-//wp-events-plugin.com//7.2.3.1//EN
TZID:Europe/Ljubljana
X-WR-TIMEZONE:Europe/Ljubljana
BEGIN:VEVENT
UID:761@cda-koper.si
DTSTART;TZID=Europe/Ljubljana:20260519T173000
DTEND;TZID=Europe/Ljubljana:20260519T190000
DTSTAMP:20260422T141350Z
URL:https://cda-koper.si/dogodki/meritve-krvnega-tlaka-in-strokovno-svetov
 anje/
SUMMARY:MERITVE KRVNEGA TLAKA IN STROKOVNO SVETOVANJE
DESCRIPTION:V torek\, 19.05.2026 ob 17:30 uri\, vas vabimo na MERITVE KRVNE
 GA TLAKA IN STROKOVNO SVETOVANJE.\nMaj je mesec ozaveščanja o pomenu red
 nega spremljanja krvnega tlaka\, 17. maja pa obeležujemo tudi svetovni da
 n hipertenzije. Ob tej priložnosti vas vabimo\, da preverite svoje vredno
 sti in naredite korak k boljšemu zdravju. Meritve bosta izvajali izkušen
 i diplomirani medicinski sestri Katja Golob in Andreja Omar\, ki bosta na 
 voljo tudi za pogovor in morebitna vprašanja glede rezultatov ter zdraveg
 a življenjskega sloga.
ATTACH;FMTTYPE=image/jpeg:https://cda-koper.si/wp-content/uploads/2026/04/
 krvni-tlak.png
CATEGORIES:CDA
LOCATION:CENTER DNEVNIH AKTIVNOSTI ZA STAREJŠE OBČANE KOPER\, Cesta Zore 
 Perello Godina 3\, 6000 Koper\, Koper\, Slovenija\, 6000\, Upravna enota K
 oper\, Slovenia
GEO:45.542631;13.725624
X-APPLE-STRUCTURED-LOCATION;VALUE=URI;X-ADDRESS=Cesta Zore Perello Godina 3
 \, 6000 Koper\, Koper\, Slovenija\, 6000\, Upravna enota Koper\, Slovenia;
 X-APPLE-RADIUS=100;X-TITLE=CENTER DNEVNIH AKTIVNOSTI ZA STAREJŠE OBČANE 
 KOPER:geo:45.542631,13.725624
END:VEVENT
BEGIN:VTIMEZONE
TZID:Europe/Ljubljana
X-LIC-LOCATION:Europe/Ljubljana
BEGIN:DAYLIGHT
DTSTART:20260329T030000
TZOFFSETFROM:+0100
TZOFFSETTO:+0200
TZNAME:CEST
END:DAYLIGHT
END:VTIMEZONE
END:VCALENDAR