BEGIN:VCALENDAR
VERSION:2.0
PRODID:-//wp-events-plugin.com//7.2.3.1//EN
TZID:Europe/Ljubljana
X-WR-TIMEZONE:Europe/Ljubljana
BEGIN:VEVENT
UID:753@cda-koper.si
DTSTART;TZID=Europe/Ljubljana:20260511T170000
DTEND;TZID=Europe/Ljubljana:20260511T180000
DTSTAMP:20260422T135318Z
URL:https://cda-koper.si/dogodki/nova-aktivnost-vodena-meditacija-notranja
 -moc-zdravje-in-dobro-pocutje/
SUMMARY:NOVA AKTIVNOST-VODENA MEDITACIJA: NOTRANJA MOČ\, ZDRAVJE IN DOBRO 
 POČUTJE
DESCRIPTION:V ponedeljek\, 11.05.2026 ob 17:00 uri\, vas vabimo na novo akt
 ivnost VODENA MEDITACIJA: NOTRANJA MOČ\, ZDRAVJE IN DOBRO POČUTJE.\nMedi
 tacija je namenjena ohranjanju notranje moči\, krepitvi zdravja ter ustva
 rjanju občutka varnosti in miru. Dogodek je prilagojen udeležencem\, ki 
 želijo podpreti svoje telo in čustveno ravnovesje.\nS pomočjo pozitivni
 h afirmacij boste spodbujali vitalnost\, notranjo stabilnost ter občutek 
 zaupanja vase. Meditacija podpira sprostitev\, zmanjševanje napetosti ter
  krepi dobro razpoloženje in življenjsko energijo.\nKaj potrebujejo udel
 eženci: preprogo (joga mat)\; udobna\, sproščena oblačila (hlače\, ma
 jica z dolgimi rokavi).\nDelavnico bo vodila ga. Aleksina Gamova. Pridite 
 in si podarite čas za obnovo moči\, podporo zdravju ter občutek topline
  in notranjega ravnovesja.
ATTACH;FMTTYPE=image/jpeg:https://cda-koper.si/wp-content/uploads/2026/04/
 meditacija.jpg
CATEGORIES:CDA
LOCATION:CENTER DNEVNIH AKTIVNOSTI ZA STAREJŠE OBČANE KOPER\, Cesta Zore 
 Perello Godina 3\, 6000 Koper\, Koper\, Slovenija\, 6000\, Upravna enota K
 oper\, Slovenia
GEO:45.542631;13.725624
X-APPLE-STRUCTURED-LOCATION;VALUE=URI;X-ADDRESS=Cesta Zore Perello Godina 3
 \, 6000 Koper\, Koper\, Slovenija\, 6000\, Upravna enota Koper\, Slovenia;
 X-APPLE-RADIUS=100;X-TITLE=CENTER DNEVNIH AKTIVNOSTI ZA STAREJŠE OBČANE 
 KOPER:geo:45.542631,13.725624
END:VEVENT
BEGIN:VTIMEZONE
TZID:Europe/Ljubljana
X-LIC-LOCATION:Europe/Ljubljana
BEGIN:DAYLIGHT
DTSTART:20260329T030000
TZOFFSETFROM:+0100
TZOFFSETTO:+0200
TZNAME:CEST
END:DAYLIGHT
END:VTIMEZONE
END:VCALENDAR