BEGIN:VCALENDAR
VERSION:2.0
PRODID:-//wp-events-plugin.com//7.2.3.1//EN
TZID:Europe/Ljubljana
X-WR-TIMEZONE:Europe/Ljubljana
BEGIN:VEVENT
UID:744@cda-koper.si
DTSTART;TZID=Europe/Ljubljana:20260505T173000
DTEND;TZID=Europe/Ljubljana:20260505T190000
DTSTAMP:20260422T143102Z
URL:https://cda-koper.si/dogodki/predavanje-arno-na-spletu-klikamo-z-glavo
 /
SUMMARY:PREDAVANJE-VARNO NA SPLETU: KLIKAMO Z GLAVO
DESCRIPTION:V torek\, 05.05. 2026 ob 17.30 uri\, vas vabimo\, da se udelež
 ite nadaljevanja predavanja »VARNO NA SPLETU: KLIKAMO Z GLAVO«.\nPredava
 nje bo vodila Zala Bricelj\, digitalna strateginja in specialistka za upor
 abo sodobnih tehnologij na spletu ter družbenih omrežjih.
ATTACH;FMTTYPE=image/jpeg:https://cda-koper.si/wp-content/uploads/2026/04/
 varni-na-spletu.jpg
CATEGORIES:CDA
LOCATION:CENTER DNEVNIH AKTIVNOSTI ZA STAREJŠE OBČANE KOPER\, Cesta Zore 
 Perello Godina 3\, 6000 Koper\, Koper\, Slovenija\, 6000\, Upravna enota K
 oper\, Slovenia
GEO:45.542631;13.725624
X-APPLE-STRUCTURED-LOCATION;VALUE=URI;X-ADDRESS=Cesta Zore Perello Godina 3
 \, 6000 Koper\, Koper\, Slovenija\, 6000\, Upravna enota Koper\, Slovenia;
 X-APPLE-RADIUS=100;X-TITLE=CENTER DNEVNIH AKTIVNOSTI ZA STAREJŠE OBČANE 
 KOPER:geo:45.542631,13.725624
END:VEVENT
BEGIN:VTIMEZONE
TZID:Europe/Ljubljana
X-LIC-LOCATION:Europe/Ljubljana
BEGIN:DAYLIGHT
DTSTART:20260329T030000
TZOFFSETFROM:+0100
TZOFFSETTO:+0200
TZNAME:CEST
END:DAYLIGHT
END:VTIMEZONE
END:VCALENDAR