BEGIN:VCALENDAR
VERSION:2.0
PRODID:-//wp-events-plugin.com//7.2.3.1//EN
TZID:Europe/Ljubljana
X-WR-TIMEZONE:Europe/Ljubljana
BEGIN:VEVENT
UID:746@cda-koper.si
DTSTART;TZID=Europe/Ljubljana:20260506T170000
DTEND;TZID=Europe/Ljubljana:20260506T183000
DTSTAMP:20260422T134406Z
URL:https://cda-koper.si/dogodki/predavanje-osteoporoza-ali-pojav-krhkih-p
 oroznih-kosti-je-tiha-bolezen-ki-lahko-neopazno-napade-kosti/
SUMMARY:PREDAVANJE-OSTEOPOROZA ALI POJAV KRHKIH\, POROZNIH KOSTI JE TIHA BO
 LEZEN\, KI LAHKO NEOPAZNO NAPADE KOSTI
DESCRIPTION:V sredo\, 6.5.2026 ob 17:00 uri\, vas v sodelovanju z društvom
  Evropa donna\, skupina Obala\, vabimo na predavanje OSTEOPOROZA ALI POJAV
  KRHKIH\, POROZNIH KOSTI JE TIHA BOLEZEN\, KI LAHKO NEOPAZNO NAPADE KOSTI.
 \nPomeni veliko tveganje za zlome in vpliva na kakovost življenja. O tem\
 , kdo je osteoporozi najbolj izpostavljen\, zakaj je nevarna\, kako jo odk
 rijemo in kako se ji lahko izognemo\, se bomo pogovarjali z zdravnico Drag
 ico Kozina\, dr. med. spec.\, specialistko fizikalne in rehabilitacijske m
 edicine\, ki v Talassu Strunjan skrbi med drugim tudi diagnostiko in zdrav
 ljenje osteoporoze.\n\n&nbsp\;
ATTACH;FMTTYPE=image/jpeg:https://cda-koper.si/wp-content/uploads/2026/04/
 osteoporoza.png
CATEGORIES:CDA
LOCATION:CENTER DNEVNIH AKTIVNOSTI ZA STAREJŠE OBČANE KOPER\, Cesta Zore 
 Perello Godina 3\, 6000 Koper\, Koper\, Slovenija\, 6000\, Upravna enota K
 oper\, Slovenia
GEO:45.542631;13.725624
X-APPLE-STRUCTURED-LOCATION;VALUE=URI;X-ADDRESS=Cesta Zore Perello Godina 3
 \, 6000 Koper\, Koper\, Slovenija\, 6000\, Upravna enota Koper\, Slovenia;
 X-APPLE-RADIUS=100;X-TITLE=CENTER DNEVNIH AKTIVNOSTI ZA STAREJŠE OBČANE 
 KOPER:geo:45.542631,13.725624
END:VEVENT
BEGIN:VTIMEZONE
TZID:Europe/Ljubljana
X-LIC-LOCATION:Europe/Ljubljana
BEGIN:DAYLIGHT
DTSTART:20260329T030000
TZOFFSETFROM:+0100
TZOFFSETTO:+0200
TZNAME:CEST
END:DAYLIGHT
END:VTIMEZONE
END:VCALENDAR