BEGIN:VCALENDAR
VERSION:2.0
PRODID:-//wp-events-plugin.com//7.2.3.1//EN
TZID:Europe/Ljubljana
X-WR-TIMEZONE:Europe/Ljubljana
BEGIN:VEVENT
UID:698@cda-koper.si
DTSTART;TZID=Europe/Ljubljana:20260303T173000
DTEND;TZID=Europe/Ljubljana:20260303T190000
DTSTAMP:20260226T173105Z
URL:https://cda-koper.si/dogodki/proslava-ob-osmem-marcu/
SUMMARY:PROSLAVA OB OSMEM MARCU
DESCRIPTION:V torek\, 03.03.2026 ob 17:30 uri\, vas vabimo na PROSLAVO OB O
 SMEM MARCU. Sodelovali bodo: zamejska stand up komičarka ga. Irene Pahor 
 in ženska klapa Fritule in otvoritev slikarske razstave» MED SPANJEM IN 
 BUDNOSTJO\, ARHETIPI MOJEGA SVETA«. Razstavlja ga. Anja AP. Blažina.\n\n
 &nbsp\;
ATTACH;FMTTYPE=image/jpeg:https://cda-koper.si/wp-content/uploads/2026/02/
 8-1.jpg
CATEGORIES:CDA
LOCATION:CENTER DNEVNIH AKTIVNOSTI ZA STAREJŠE OBČANE KOPER\, Cesta Zore 
 Perello Godina 3\, 6000 Koper\, Koper\, Slovenija\, 6000\, Upravna enota K
 oper\, Slovenia
GEO:45.542631;13.725624
X-APPLE-STRUCTURED-LOCATION;VALUE=URI;X-ADDRESS=Cesta Zore Perello Godina 3
 \, 6000 Koper\, Koper\, Slovenija\, 6000\, Upravna enota Koper\, Slovenia;
 X-APPLE-RADIUS=100;X-TITLE=CENTER DNEVNIH AKTIVNOSTI ZA STAREJŠE OBČANE 
 KOPER:geo:45.542631,13.725624
END:VEVENT
BEGIN:VTIMEZONE
TZID:Europe/Ljubljana
X-LIC-LOCATION:Europe/Ljubljana
BEGIN:STANDARD
DTSTART:20251026T020000
TZOFFSETFROM:+0200
TZOFFSETTO:+0100
TZNAME:CET
END:STANDARD
END:VTIMEZONE
END:VCALENDAR