BEGIN:VCALENDAR
VERSION:2.0
PRODID:-//wp-events-plugin.com//7.2.3.1//EN
TZID:Europe/Ljubljana
X-WR-TIMEZONE:Europe/Ljubljana
BEGIN:VEVENT
UID:756@cda-koper.si
DTSTART;TZID=Europe/Ljubljana:20260513T060000
DTEND;TZID=Europe/Ljubljana:20260513T180000
DTSTAMP:20260422T140234Z
URL:https://cda-koper.si/dogodki/srecanje-skupna-razstava-rocnih-del-3dcad
 ca-ja-iz-maribora-in-ljubljane-ter-cda-koper/
SUMMARY:SREČANJE\, SKUPNA RAZSTAVA ROČNIH DEL »3DCA«(DCA-ja iz Maribora
  in Ljubljane ter CDA Koper)
DESCRIPTION:V sredo\, 13.05.2026 organizira Društvo TOTI DCA Maribor v sod
 elovanju z VGC+ srce Štajerske\, skupno RAZSTAVO ROČNIH DEL »3DCA«\n(D
 CA-ja iz Maribora in Ljubljane ter CDA Koper).\nOkvirni program:\n- 06:00 
 - odhod iz Kopra pri »stari soči« in ob 6:15 iz Bertokov\n- 11:00 - pri
 hod v Maribor in pogostitev – kava\, čaj\, rogljiček\n- 11:00 - postav
 itev razstave ročnih del in sprehod po Mariboru\n- 15:00 - otvoritev razs
 tave ročnih del z predstavitvijo skupin ustvarjalcev\n- Po otvoritvi bomo
  skupaj preživeli ustvarjalno popoldne v dobri družbi. To bo priložnost
 \, da se povežemo\, podelimo navdih in praznujemo ustvarjalnost\, ki nas 
 druži v vseh treh DCA- jih.\nCena izleta je 31\,00 Eur (prevoz).\nPrijave
  z vplačilom so možne v CDA Koper do četrtka\, 08.05.2026\,\noziroma do
  zapolnitve mest.
ATTACH;FMTTYPE=image/jpeg:https://cda-koper.si/wp-content/uploads/2026/04/
 maribor.jpg
CATEGORIES:CDA
LOCATION:CENTER DNEVNIH AKTIVNOSTI ZA STAREJŠE OBČANE KOPER\, Cesta Zore 
 Perello Godina 3\, 6000 Koper\, Koper\, Slovenija\, 6000\, Upravna enota K
 oper\, Slovenia
GEO:45.542631;13.725624
X-APPLE-STRUCTURED-LOCATION;VALUE=URI;X-ADDRESS=Cesta Zore Perello Godina 3
 \, 6000 Koper\, Koper\, Slovenija\, 6000\, Upravna enota Koper\, Slovenia;
 X-APPLE-RADIUS=100;X-TITLE=CENTER DNEVNIH AKTIVNOSTI ZA STAREJŠE OBČANE 
 KOPER:geo:45.542631,13.725624
END:VEVENT
BEGIN:VTIMEZONE
TZID:Europe/Ljubljana
X-LIC-LOCATION:Europe/Ljubljana
BEGIN:DAYLIGHT
DTSTART:20260329T030000
TZOFFSETFROM:+0100
TZOFFSETTO:+0200
TZNAME:CEST
END:DAYLIGHT
END:VTIMEZONE
END:VCALENDAR