BEGIN:VCALENDAR
VERSION:2.0
PRODID:-//wp-events-plugin.com//7.2.3.1//EN
TZID:Europe/Ljubljana
X-WR-TIMEZONE:Europe/Ljubljana
BEGIN:VEVENT
UID:551@cda-koper.si
DTSTART;TZID=Europe/Ljubljana:20250311T160000
DTEND;TZID=Europe/Ljubljana:20250311T170000
DTSTAMP:20250306T164818Z
URL:https://cda-koper.si/dogodki/ustvarjalna-delavnica-oblike-narave/
SUMMARY:USTVARJALNA DELAVNICA - OBLIKE NARAVE
DESCRIPTION:Naslednji teden začenjamo s sklopom ustvarjalnih delavnic za o
 snovnošolce. Na prvi delavnici bomo izdelali unikatno leseno vazo\, kjer 
 bomo združili naravno lepoto lesa in uporabo odpadnih materialov\, ki bi 
 sicer romali v smeti. Dobimo se v torek\, 11. 3. 2025\, ob 16:00.Vabljeni!
ATTACH;FMTTYPE=image/jpeg:https://cda-koper.si/wp-content/uploads/2025/03/
 ustvarjalna-delavnica.png
CATEGORIES:VGC
LOCATION:VEČGENERACIJSKI CENTER MORJE\, Cesta Zore Perello Godina 3\, 6000
  Koper\, Koper\, Slovenija\, 6000\, Slovenia
GEO:45.542631;13.725624
X-APPLE-STRUCTURED-LOCATION;VALUE=URI;X-ADDRESS=Cesta Zore Perello Godina 3
 \, 6000 Koper\, Koper\, Slovenija\, 6000\, Slovenia;X-APPLE-RADIUS=100;X-T
 ITLE=VEČGENERACIJSKI CENTER MORJE:geo:45.542631,13.725624
END:VEVENT
BEGIN:VTIMEZONE
TZID:Europe/Ljubljana
X-LIC-LOCATION:Europe/Ljubljana
BEGIN:STANDARD
DTSTART:20241027T020000
TZOFFSETFROM:+0200
TZOFFSETTO:+0100
TZNAME:CET
END:STANDARD
END:VTIMEZONE
END:VCALENDAR