BEGIN:VCALENDAR
VERSION:2.0
PRODID:-//wp-events-plugin.com//7.2.3.1//EN
TZID:Europe/Ljubljana
X-WR-TIMEZONE:Europe/Ljubljana
BEGIN:VEVENT
UID:743@cda-koper.si
DTSTART;TZID=Europe/Ljubljana:20260415T000000
DTEND;TZID=Europe/Ljubljana:20260415T000000
DTSTAMP:20260414T131805Z
URL:https://cda-koper.si/dogodki/zacetni-racunalniski-tecaj/
SUMMARY:ZAČETNI RAČUNALNIŠKI TEČAJ
DESCRIPTION:Računalniško opismenjevanje - osnovno urejanje besedila
ATTACH;FMTTYPE=image/jpeg:https://cda-koper.si/wp-content/uploads/2026/04/
 comp-and-word.jpg
CATEGORIES:VGC
LOCATION:VEČGENERACIJSKI CENTER MORJE\, Cesta Zore Perello Godina 3\, 6000
  Koper\, Koper\, Slovenija\, 6000\, Slovenia
GEO:45.542631;13.725624
X-APPLE-STRUCTURED-LOCATION;VALUE=URI;X-ADDRESS=Cesta Zore Perello Godina 3
 \, 6000 Koper\, Koper\, Slovenija\, 6000\, Slovenia;X-APPLE-RADIUS=100;X-T
 ITLE=VEČGENERACIJSKI CENTER MORJE:geo:45.542631,13.725624
END:VEVENT
BEGIN:VTIMEZONE
TZID:Europe/Ljubljana
X-LIC-LOCATION:Europe/Ljubljana
BEGIN:DAYLIGHT
DTSTART:20260329T030000
TZOFFSETFROM:+0100
TZOFFSETTO:+0200
TZNAME:CEST
END:DAYLIGHT
END:VTIMEZONE
END:VCALENDAR